BEGIN:VCALENDAR
VERSION:2.0
PRODID:-//hacksw/handcal//NONSGML v1.0//EN
TZID:Asia/Hong_Kong
BEGIN:VEVENT
DTSTART:20260203T093000z
DTEND:20260203T173000z
SUMMARY:Certified EPC/RFID Professional Training Program
LOCATION:GS1 Hong Kong, 22/F, OTB Building, 160 Gloucester Road, Wanchai, Hong Kong
URL:http://www.gs1hk.org/Certified_EPC_RFID
END:VEVENT
END:VCALENDAR