BEGIN:VCALENDAR
VERSION:2.0
PRODID:-//hacksw/handcal//NONSGML v1.0//EN
TZID:Asia/Hong_Kong
BEGIN:VEVENT
DTSTART:20220524T160000z
DTEND:20220524T170000z
SUMMARY:Hong Kong ICT Awards 2022: Smart Mobility Award Briefing Session
LOCATION:GS1 HK Office / ZOOM online briefing: https://bit.ly/ICT-zoom
URL:http://www.gs1hk.org/event/ICT-Award-briefing-2022
END:VEVENT
END:VCALENDAR