BEGIN:VCALENDAR
VERSION:2.0
PRODID:-//hacksw/handcal//NONSGML v1.0//EN
TZID:Asia/Hong_Kong
BEGIN:VEVENT
DTSTART:20220607T150000z
DTEND:20220607T163000z
SUMMARY:【免費研討會】優化冷鏈物流管理，提升營運效率
LOCATION:GS1 HK Office - 22/F, OTB bldg, 160 Gloucester Rd, Wan Chai 
URL:http://www.gs1hk.org/event/cold-chain-seminar-jun-2022
END:VEVENT
END:VCALENDAR