BEGIN:VCALENDAR
VERSION:2.0
PRODID:-//hacksw/handcal//NONSGML v1.0//EN
TZID:Asia/Hong_Kong
BEGIN:VEVENT
DTSTART:20141217T083000z
DTEND:20141217T140000z
SUMMARY:GS1 Hong Kong 25th Anniversary Gala Dinner
LOCATION:Hong Kong Convention and Exhibition Centre, Convention Hall
URL:http://www.gs1hk.org/events/25th-anniversary-galadinner
END:VEVENT
END:VCALENDAR