BEGIN:VCALENDAR
VERSION:2.0
PRODID:-//hacksw/handcal//NONSGML v1.0//EN
TZID:Asia/Hong_Kong
BEGIN:VEVENT
DTSTART:20240712T153000z
DTEND:20240712T173000z
SUMMARY:「從零到+01」新書發佈研討會
LOCATION:九龍達之路78號生產力大樓1樓Inno Network
URL:http://www.gs1hk.org/events/GS1HK35-anniversary-book-launch
END:VEVENT
END:VCALENDAR