BEGIN:VCALENDAR
VERSION:2.0
PRODID:-//hacksw/handcal//NONSGML v1.0//EN
TZID:Asia/Hong_Kong
BEGIN:VEVENT
DTSTART:20220125T100000z
DTEND:20220125T113000z
SUMMARY:[Smart Logistics] Enhancing Supply Chain Efficiency with IoT + Robotics
LOCATION:Via ZOOM webinar*
URL:http://www.gs1hk.org/events/Smart-Logistics-Webinar-jan-2022
END:VEVENT
END:VCALENDAR