BEGIN:VCALENDAR
VERSION:2.0
PRODID:-//hacksw/handcal//NONSGML v1.0//EN
TZID:Asia/Hong_Kong
BEGIN:VEVENT
DTSTART:20231116T150000z
DTEND:20231116T170000z
SUMMARY:【Healthcare Training】 Unique Device Identification (UDI) for Medical Devices
LOCATION:ZOOM webinar (Unique link will be sent before the event by email)
URL:http://www.gs1hk.org/events/UDI-workshop-20231115
END:VEVENT
END:VCALENDAR