BEGIN:VCALENDAR
VERSION:2.0
PRODID:-//hacksw/handcal//NONSGML v1.0//EN
TZID:Asia/Hong_Kong
BEGIN:VEVENT
DTSTART:20260522T150000z
DTEND:20260522T170000z
SUMMARY:【免費工作坊】兩小時教你將AI成為你的網店 24 小時員工！
LOCATION:22/F, OTB Building, 160 Gloucester Road, Wan Chai, Hong Kong
URL:http://www.gs1hk.org/events/aiworkshop-20260522
END:VEVENT
END:VCALENDAR