BEGIN:VCALENDAR
VERSION:2.0
PRODID:-//hacksw/handcal//NONSGML v1.0//EN
TZID:Asia/Hong_Kong
BEGIN:VEVENT
DTSTART:20170112T100000z
DTEND:20170112T140000z
SUMMARY:GS1 Hong Kong Annual Members Dinner 2017
LOCATION:Sheraton Hong Kong Hotel, Tsim Sha Tsui
URL:http://www.gs1hk.org/events/annual-member-dinner-2017
END:VEVENT
END:VCALENDAR