BEGIN:VCALENDAR
VERSION:2.0
PRODID:-//hacksw/handcal//NONSGML v1.0//EN
TZID:Asia/Hong_Kong
BEGIN:VEVENT
DTSTART:20221216T103000z
DTEND:20221216T170000z
SUMMARY:條碼及數碼工作坊 - 中小企零售及物流新體驗 (2022年12月)
LOCATION:香港灣仔告士打道160號海外信託銀行大廈22樓
URL:http://www.gs1hk.org/events/basic-barcode-workshop-dec-2022
END:VEVENT
END:VCALENDAR