BEGIN:VCALENDAR
VERSION:2.0
PRODID:-//hacksw/handcal//NONSGML v1.0//EN
TZID:Asia/Hong_Kong
BEGIN:VEVENT
DTSTART:20140319T070000z
DTEND:20140319T090000z
SUMMARY:BUD Fund Seminar
LOCATION:The Hong Kong Federation of Youth Groups Building, 21 Pak Fuk Road, North Point, HK
URL:http://www.gs1hk.org/events/bud-fund-seminar
END:VEVENT
END:VCALENDAR