BEGIN:VCALENDAR
VERSION:2.0
PRODID:-//hacksw/handcal//NONSGML v1.0//EN
TZID:Asia/Hong_Kong
BEGIN:VEVENT
DTSTART:20161012T011500z
DTEND:20161012T100000z
SUMMARY:A Strategic Guide to the Revised China Food Safety Law Compliance Training
LOCATION:OTB Building, 160 Gloucester Road, Wanchai, Hong Kong
URL:http://www.gs1hk.org/events/chinafoodlaw-compliance-oct-2016
END:VEVENT
END:VCALENDAR