BEGIN:VCALENDAR
VERSION:2.0
PRODID:-//hacksw/handcal//NONSGML v1.0//EN
TZID:Asia/Hong_Kong
BEGIN:VEVENT
DTSTART:20170313T063000z
DTEND:20170313T093000z
SUMMARY:Cross Border e-Commerce Seminar- Your short cut to gain great success on eBay (Mar 2017)
LOCATION:OTB Building, 160 Gloucester Road, Wanchai, Hong Kong
URL:http://www.gs1hk.org/events/cross-border-e-commerce-mar-2017
END:VEVENT
END:VCALENDAR