BEGIN:VCALENDAR
VERSION:2.0
PRODID:-//hacksw/handcal//NONSGML v1.0//EN
TZID:Asia/Hong_Kong
BEGIN:VEVENT
DTSTART:20250821T150000z
DTEND:20250821T170000z
SUMMARY:【GS1 HK會員專屬研討會】加快報關、清關減查驗 跨境送貨更高效省錢
LOCATION:22/F, OTB Building, 160 Gloucester Road, Wanchai, Hong Kong
URL:http://www.gs1hk.org/events/customs_trade_single_window_campaign
END:VEVENT
END:VCALENDAR