BEGIN:VCALENDAR
VERSION:2.0
PRODID:-//hacksw/handcal//NONSGML v1.0//EN
TZID:Asia/Hong_Kong
BEGIN:VEVENT
DTSTART:20190924T070000z
DTEND:20190924T090000z
SUMMARY:Design Thinking Workshop
LOCATION:GS1 HK Office - 22/F, OTB Bldg, No. 160 Gloucester Road, Wan Chai
URL:http://www.gs1hk.org/events/design-thinking-workshop-sep-2019
END:VEVENT
END:VCALENDAR