BEGIN:VCALENDAR
VERSION:2.0
PRODID:-//hacksw/handcal//NONSGML v1.0//EN
TZID:Asia/Hong_Kong
BEGIN:VEVENT
DTSTART:20150805T060000z
DTEND:20150805T090000z
SUMMARY:Shaping Customer Journey with Innovative Technologies
LOCATION:HKTDC SME Centre ( Ground Floor) , Hong Kong Convention and Exhibition Centre
URL:http://www.gs1hk.org/events/e-commerce-highway-seminar-series-shaping-successful-customer-journey-technological
END:VEVENT
END:VCALENDAR