BEGIN:VCALENDAR
VERSION:2.0
PRODID:-//hacksw/handcal//NONSGML v1.0//EN
TZID:Asia/Hong_Kong
BEGIN:VEVENT
DTSTART:20170830T053000z
DTEND:20170830T100000z
SUMMARY:Food Safety Forum 2017 - “Food Brand Protection: Increase Consumer Trust”
LOCATION:Hong Kong Productivity Council
URL:http://www.gs1hk.org/events/food-forum-2017
END:VEVENT
END:VCALENDAR