BEGIN:VCALENDAR
VERSION:2.0
PRODID:-//hacksw/handcal//NONSGML v1.0//EN
TZID:Asia/Hong_Kong
BEGIN:VEVENT
DTSTART:20160126T060000z
DTEND:20160126T090000z
SUMMARY:Latest China Food Safety Law Updates - Challenges or Opportunities?
LOCATION:OTB Building, 160 Gloucester Road, Wanchai, Hong Kong
URL:http://www.gs1hk.org/events/food-industry-seminar-jan-2016
END:VEVENT
END:VCALENDAR