BEGIN:VCALENDAR
VERSION:2.0
PRODID:-//hacksw/handcal//NONSGML v1.0//EN
TZID:Asia/Hong_Kong
BEGIN:VEVENT
DTSTART:20190424T070000z
DTEND:20190424T090000z
SUMMARY:【免費智慧零售講座】科技券加碼 企業如何善用資源實踐智慧零售
LOCATION:GS1 Hong Kong 22/F, OTB Building, 160 Gloucester Road, Wanchai, Hong Kong
URL:http://www.gs1hk.org/events/free-retail-innovation-seminar-apr-2019
END:VEVENT
END:VCALENDAR