BEGIN:VCALENDAR
VERSION:2.0
PRODID:-//hacksw/handcal//NONSGML v1.0//EN
TZID:Asia/Hong_Kong
BEGIN:VEVENT
DTSTART:20171122T020000z
DTEND:20171122T050000z
SUMMARY:康業物業Getso生活優惠電子平台商戶簡介會
LOCATION:OTB Building, 160 Gloucester Road, Wanchai, Hong Kong
URL:http://www.gs1hk.org/events/getso-nov-2017
END:VEVENT
END:VCALENDAR