BEGIN:VCALENDAR
VERSION:2.0
PRODID:-//hacksw/handcal//NONSGML v1.0//EN
TZID:Asia/Hong_Kong
BEGIN:VEVENT
DTSTART:20220429T150000z
DTEND:20220429T163000z
SUMMARY:【Go Digital Seminar】360° Business Solutions
LOCATION:Online traininig (zoom link will be sent to you after registration)
URL:http://www.gs1hk.org/events/go-digital-webinar-2-apr-2022
END:VEVENT
END:VCALENDAR