BEGIN:VCALENDAR
VERSION:2.0
PRODID:-//hacksw/handcal//NONSGML v1.0//EN
TZID:Asia/Hong_Kong
BEGIN:VEVENT
DTSTART:20120907T063000z
DTEND:20120907T093000z
SUMMARY:GS1 Hong Kong B2C Mobile Application Workshop
LOCATION:OTB Building, 160 Gloucester Road, Wanchai
URL:http://www.gs1hk.org/events/gs1-hong-kong-b2c-mobile-application-workshop-7sep-2012
END:VEVENT
END:VCALENDAR