BEGIN:VCALENDAR
VERSION:2.0
PRODID:-//hacksw/handcal//NONSGML v1.0//EN
TZID:Asia/Hong_Kong
BEGIN:VEVENT
DTSTART:20191108T073000z
DTEND:20191108T093000z
SUMMARY:GS1HK x APIFS Workshop ( Nov 2019 )
LOCATION:22/F, OTB Building, 160 Gloucester Road, Wanchai, Hong Kong
URL:http://www.gs1hk.org/events/gs1hk-apifs-workshop-nov-2019
END:VEVENT
END:VCALENDAR