BEGIN:VCALENDAR
VERSION:2.0
PRODID:-//hacksw/handcal//NONSGML v1.0//EN
TZID:Asia/Hong_Kong
BEGIN:VEVENT
DTSTART:20210625T150000z
DTEND:20210625T163000z
SUMMARY:【Go Digital研討會】專家拆解電商營銷策略+貨物進出口中國要訣
LOCATION:22/F, OTB Building, 160 Gloucester Road, Wanchai, Hong Kong
URL:http://www.gs1hk.org/events/gs1hk-hlstla-webinar-china-retail-jun-2021
END:VEVENT
END:VCALENDAR