BEGIN:VCALENDAR
VERSION:2.0
PRODID:-//hacksw/handcal//NONSGML v1.0//EN
TZID:Asia/Hong_Kong
BEGIN:VEVENT
DTSTART:20201027T143000z
DTEND:20201027T160000z
SUMMARY:Invest Hong Kong Webinar Smart Technologies x eCommerce: Reaching New Consumers
LOCATION:Online course
URL:http://www.gs1hk.org/events/gs1hk-investhk-jb.com-webinar-oct-2020
END:VEVENT
END:VCALENDAR