BEGIN:VCALENDAR
VERSION:2.0
PRODID:-//hacksw/handcal//NONSGML v1.0//EN
TZID:Asia/Hong_Kong
BEGIN:VEVENT
DTSTART:20150421T013000z
DTEND:20150422T093000z
SUMMARY:Healthcare Supply Chain Management Training
LOCATION:OTB Building, 160 Gloucester Road, Wanchai, Hong Kong
URL:http://www.gs1hk.org/events/healthcare-training-apr-2015
END:VEVENT
END:VCALENDAR