BEGIN:VCALENDAR
VERSION:2.0
PRODID:-//hacksw/handcal//NONSGML v1.0//EN
TZID:Asia/Hong_Kong
BEGIN:VEVENT
DTSTART:20160606T160000z
DTEND:20160607T160000z
SUMMARY:HKRMA 2016 Retail Conference - Success & Sustainability
LOCATION:HKCEC
URL:http://www.gs1hk.org/events/hkrma-retailconf-jun-2016
END:VEVENT
END:VCALENDAR