BEGIN:VCALENDAR
VERSION:2.0
PRODID:-//hacksw/handcal//NONSGML v1.0//EN
TZID:Asia/Hong_Kong
BEGIN:VEVENT
DTSTART:20251024T150000z
DTEND:20251024T170000z
SUMMARY:【GS1 HK會員專屬研討會】Mark Sir 研討會: 如何突破團隊應用AI瓶頸
LOCATION:22/F, OTB building, 160 Gloucester Road, Wan Chai
URL:http://www.gs1hk.org/events/mark_sir_AI_seminar_20251024
END:VEVENT
END:VCALENDAR