BEGIN:VCALENDAR
VERSION:2.0
PRODID:-//hacksw/handcal//NONSGML v1.0//EN
TZID:Asia/Hong_Kong
BEGIN:VEVENT
DTSTART:20240530T150000z
DTEND:20240530T170000z
SUMMARY:【免費研討會】政府支援中小企，資助項目知多啲！
LOCATION:香港灣仔告士打道160號海外信託銀行大廈22樓
URL:http://www.gs1hk.org/events/pm-workshop-may-2024
END:VEVENT
END:VCALENDAR