BEGIN:VCALENDAR
VERSION:2.0
PRODID:-//hacksw/handcal//NONSGML v1.0//EN
TZID:Asia/Hong_Kong
BEGIN:VEVENT
DTSTART:20230524T150000z
DTEND:20230524T163000z
SUMMARY:【研討會】專家教路：利用WhatsApp營銷方案及Google提升銷售
LOCATION:香港灣仔告士打道160號海外信託銀行大廈22樓
URL:http://www.gs1hk.org/events/seminar-20230524
END:VEVENT
END:VCALENDAR