BEGIN:VCALENDAR
VERSION:2.0
PRODID:-//hacksw/handcal//NONSGML v1.0//EN
TZID:Asia/Hong_Kong
BEGIN:VEVENT
DTSTART:20171211T073000z
DTEND:20171211T091500z
SUMMARY:HKSAR ICT Awards 2018 - Smart Mobility Award Information Session II
LOCATION:Multi-Function Room, Smart Space FinTech, Level 4, Core E, Cyberport 3, 100 Cyberport Road
URL:http://www.gs1hk.org/events/smart-mobility-award-information-session-dec
END:VEVENT
END:VCALENDAR