BEGIN:VCALENDAR
VERSION:2.0
PRODID:-//hacksw/handcal//NONSGML v1.0//EN
TZID:Asia/Hong_Kong
BEGIN:VEVENT
DTSTART:20190822T060000z
DTEND:20190822T090000z
SUMMARY:Smart Retail Seminar
LOCATION:Theatre 2, 1/F, HKPC Building, 78 Tat Chee Avenue, Kowloon, Hong Kong
URL:http://www.gs1hk.org/events/smart-retail-seminar-aug-2019
END:VEVENT
END:VCALENDAR