BEGIN:VCALENDAR
VERSION:2.0
PRODID:-//hacksw/handcal//NONSGML v1.0//EN
TZID:Asia/Hong_Kong
BEGIN:VEVENT
DTSTART:20120925T013000z
DTEND:20120926T093000z
SUMMARY:提高供應鏈盈利能力工作坊
LOCATION:灣仔告士打道160號海外信託銀行大廈22樓香港貨品編碼協會會議室
URL:http://www.gs1hk.org/events/sscr-leaflet-25sep2012-26sep2012
END:VEVENT
END:VCALENDAR