BEGIN:VCALENDAR
VERSION:2.0
PRODID:-//hacksw/handcal//NONSGML v1.0//EN
TZID:Asia/Hong_Kong
BEGIN:VEVENT
DTSTART:20150625T093000z
DTEND:20150625T110000z
SUMMARY:GS1 Hong Kong Vendor Partner Program Kickoff 2015
LOCATION:Times Champagne Bar & Restaurant (19/F Sunshine Plaza, 353 Lockhart Road , Wan Chai ,Hong Kong
URL:http://www.gs1hk.org/events/vpp-kickoff-2015
END:VEVENT
END:VCALENDAR