BEGIN:VCALENDAR
VERSION:2.0
PRODID:-//hacksw/handcal//NONSGML v1.0//EN
TZID:Asia/Hong_Kong
BEGIN:VEVENT
DTSTART:20241119T141500z
DTEND:20241120T153000z
SUMMARY:亚洲物流航运及空运会议 | 供应链管理及物流论坛 II - 智能供应链缔造新机遇
LOCATION:Leadership Hub，香港会议展览中心展览厅3FG
URL:http://www.gs1hk.org/zh-cn/ALMAC2024-SCM%26LogisticsForum-2
END:VEVENT
END:VCALENDAR