BEGIN:VCALENDAR
VERSION:2.0
PRODID:-//hacksw/handcal//NONSGML v1.0//EN
TZID:Asia/Hong_Kong
BEGIN:VEVENT
DTSTART:20240712T153000z
DTEND:20240712T173000z
SUMMARY:「从零到+01」新书发佈研讨会
LOCATION:九龙达之路78号生产力大楼1楼Inno Network
URL:http://www.gs1hk.org/zh-cn/GS1HK35-anniversary-book-launch
END:VEVENT
END:VCALENDAR