BEGIN:VCALENDAR
VERSION:2.0
PRODID:-//hacksw/handcal//NONSGML v1.0//EN
TZID:Asia/Hong_Kong
BEGIN:VEVENT
DTSTART:20240926T103000z
DTEND:20240926T123000z
SUMMARY:【GS1 HK会员专属研讨会】2D条码早着先机，探索巿场未来发展
LOCATION:香港湾仔告士打道160号海外信讬银行大厦22楼
URL:http://www.gs1hk.org/zh-cn/September-Barcode-Workshop-2024
END:VEVENT
END:VCALENDAR