BEGIN:VCALENDAR
VERSION:2.0
PRODID:-//hacksw/handcal//NONSGML v1.0//EN
TZID:Asia/Hong_Kong
BEGIN:VEVENT
DTSTART:20220524T160000z
DTEND:20220524T170000z
SUMMARY:2022 香港资讯及通讯科技奖：「智慧出行奖」简介会
LOCATION:GS1 HK 办公室 / 网上进行
URL:http://www.gs1hk.org/zh-cn/event/ICT-Award-briefing-2022
END:VEVENT
END:VCALENDAR