BEGIN:VCALENDAR
VERSION:2.0
PRODID:-//hacksw/handcal//NONSGML v1.0//EN
TZID:Asia/Hong_Kong
BEGIN:VEVENT
DTSTART:20191025T100000z
DTEND:20191025T120000z
SUMMARY:香港货品编码协会30周年志庆压轴酒会 (只限受邀请人士参加)
LOCATION:香港瑞吉酒店
URL:http://www.gs1hk.org/zh-cn/events/GS1HK-30th-Anniversary-Finale-Cocktail
END:VEVENT
END:VCALENDAR