BEGIN:VCALENDAR
VERSION:2.0
PRODID:-//hacksw/handcal//NONSGML v1.0//EN
TZID:Asia/Hong_Kong
BEGIN:VEVENT
DTSTART:20190404T064500z
DTEND:20190404T084500z
SUMMARY:Hong Kong ICT Awards 2019
LOCATION:Theatre 2, HKCEC, Wan Chai, Hong Kong
URL:http://www.gs1hk.org/zh-cn/events/Hong-Kong-ICT-Awards-2019-Ceremony
END:VEVENT
END:VCALENDAR