BEGIN:VCALENDAR
VERSION:2.0
PRODID:-//hacksw/handcal//NONSGML v1.0//EN
TZID:Asia/Hong_Kong
BEGIN:VEVENT
DTSTART:20220125T100000z
DTEND:20220125T113000z
SUMMARY:【智慧物流】物联网+智慧机械人 全面提升供应链效率
LOCATION:以ZOOM网上参与*
URL:http://www.gs1hk.org/zh-cn/events/Smart-Logistics-Webinar-jan-2022
END:VEVENT
END:VCALENDAR