BEGIN:VCALENDAR
VERSION:2.0
PRODID:-//hacksw/handcal//NONSGML v1.0//EN
TZID:Asia/Hong_Kong
BEGIN:VEVENT
DTSTART:20140319T070000z
DTEND:20140319T090000z
SUMMARY:BUD 基金申请分享会
LOCATION:香港北角百福道21号香港青年协会大厦
URL:http://www.gs1hk.org/zh-cn/events/bud-fund-seminar
END:VEVENT
END:VCALENDAR