BEGIN:VCALENDAR
VERSION:2.0
PRODID:-//hacksw/handcal//NONSGML v1.0//EN
TZID:Asia/Hong_Kong
BEGIN:VEVENT
DTSTART:20161012T011500z
DTEND:20161012T100000z
SUMMARY:新中国食安法规范及攻略：你认识多少？
LOCATION:湾仔告士打道160号海外信托银行大厦22楼
URL:http://www.gs1hk.org/zh-cn/events/chinafoodlaw-compliance-oct-2016
END:VEVENT
END:VCALENDAR