BEGIN:VCALENDAR
VERSION:2.0
PRODID:-//hacksw/handcal//NONSGML v1.0//EN
TZID:Asia/Hong_Kong
BEGIN:VEVENT
DTSTART:20250821T150000z
DTEND:20250821T170000z
SUMMARY:【GS1 HK会员专属研讨会】加快报关、清关减查验 跨境送货更高效省钱
LOCATION:香港湾仔告士打道160号海外信讬银行大厦22楼
URL:http://www.gs1hk.org/zh-cn/events/customs_trade_single_window_campaign
END:VEVENT
END:VCALENDAR