BEGIN:VCALENDAR
VERSION:2.0
PRODID:-//hacksw/handcal//NONSGML v1.0//EN
TZID:Asia/Hong_Kong
BEGIN:VEVENT
DTSTART:20190924T070000z
DTEND:20190924T090000z
SUMMARY:商业设计思维工作坊
LOCATION:香港货品编码协会办公室 - 湾仔告士打道160号海外信托银行大厦22楼
URL:http://www.gs1hk.org/zh-cn/events/design-thinking-workshop-sep-2019
END:VEVENT
END:VCALENDAR