BEGIN:VCALENDAR
VERSION:2.0
PRODID:-//hacksw/handcal//NONSGML v1.0//EN
TZID:Asia/Hong_Kong
BEGIN:VEVENT
DTSTART:20130327T010000z
DTEND:20130328T090000z
SUMMARY:E-Commerce Asia Expo & Conference 2013
LOCATION:AsiaWorld Expo, Hong Kong
URL:http://www.gs1hk.org/zh-cn/events/e-commerce-asia-expo-conference-mar-2013
END:VEVENT
END:VCALENDAR