BEGIN:VCALENDAR
VERSION:2.0
PRODID:-//hacksw/handcal//NONSGML v1.0//EN
TZID:Asia/Hong_Kong
BEGIN:VEVENT
DTSTART:20170830T053000z
DTEND:20170830T100000z
SUMMARY:食品安全论坛 2017 - 维护食品品牌信誉  提升消费者信心
LOCATION:Hong Kong Productivity Council
URL:http://www.gs1hk.org/zh-cn/events/food-forum-2017
END:VEVENT
END:VCALENDAR