BEGIN:VCALENDAR
VERSION:2.0
PRODID:-//hacksw/handcal//NONSGML v1.0//EN
TZID:Asia/Hong_Kong
BEGIN:VEVENT
DTSTART:20160126T060000z
DTEND:20160126T090000z
SUMMARY:《中国食安法》最新修订 — 你的挑战与机遇? 
LOCATION:湾仔告士打道160号海外信托银行大厦
URL:http://www.gs1hk.org/zh-cn/events/food-industry-seminar-jan-2016
END:VEVENT
END:VCALENDAR