BEGIN:VCALENDAR
VERSION:2.0
PRODID:-//hacksw/handcal//NONSGML v1.0//EN
TZID:Asia/Hong_Kong
BEGIN:VEVENT
DTSTART:20170714T033000z
DTEND:20170714T060000z
SUMMARY:食品行业交流午餐会(二)
LOCATION:香港湾仔告士打道160号海外信托银行大厦
URL:http://www.gs1hk.org/zh-cn/events/food-luncheon-jul-2017
END:VEVENT
END:VCALENDAR