BEGIN:VCALENDAR
VERSION:2.0
PRODID:-//hacksw/handcal//NONSGML v1.0//EN
TZID:Asia/Hong_Kong
BEGIN:VEVENT
DTSTART:20120907T063000z
DTEND:20120907T093000z
SUMMARY:香港貨品編碼協會B2C流动通讯应用工作坊
LOCATION:湾仔告士打道160号海外信托银行大厦22楼香港货品编码协会会议室
URL:http://www.gs1hk.org/zh-cn/events/gs1-hong-kong-b2c-mobile-application-workshop-7sep-2012
END:VEVENT
END:VCALENDAR